BEGIN:VCALENDAR
VERSION:2.0
PRODID:-//Newton Republican City Committee - ECPv6.15.20//NONSGML v1.0//EN
CALSCALE:GREGORIAN
METHOD:PUBLISH
X-WR-CALNAME:Newton Republican City Committee
X-ORIGINAL-URL:https://www.newtonrepublicans.org
X-WR-CALDESC:Events for Newton Republican City Committee
REFRESH-INTERVAL;VALUE=DURATION:PT1H
X-Robots-Tag:noindex
X-PUBLISHED-TTL:PT1H
BEGIN:VTIMEZONE
TZID:UTC
BEGIN:STANDARD
TZOFFSETFROM:+0000
TZOFFSETTO:+0000
TZNAME:UTC
DTSTART:20230101T000000
END:STANDARD
END:VTIMEZONE
BEGIN:VEVENT
DTSTART;TZID=UTC:20241209T190000
DTEND;TZID=UTC:20241209T200000
DTSTAMP:20260422T075017
CREATED:20250209T190953Z
LAST-MODIFIED:20250209T190953Z
UID:1541-1733770800-1733774400@www.newtonrepublicans.org
SUMMARY:Newton Republican City Committee
DESCRIPTION:Join the Newton Republican City Committee for our next meeting\, where we will have Jeff Cohen\, Co-Director of Massachusetts 4 Fair Elections (https://www.ma4fairelections.com) present on the topic of election integrity in MA. \nWe will then elect nominees for the election commission to refer to the Mayor.  \nPlease note we will use the rear entrance.
URL:https://www.newtonrepublicans.org/event/newton-republican-city-committee-2/
LOCATION:150 Lowell Ave\, 150 Lowell Avenue\, Newtonville\, 02460\, United States
ORGANIZER;CN="NRCC":MAILTO:info@newtonrepublicans.org
END:VEVENT
END:VCALENDAR