BEGIN:VCALENDAR
VERSION:2.0
PRODID:-//Newton Republican City Committee - ECPv6.15.20//NONSGML v1.0//EN
CALSCALE:GREGORIAN
METHOD:PUBLISH
X-ORIGINAL-URL:https://www.newtonrepublicans.org
X-WR-CALDESC:Events for Newton Republican City Committee
REFRESH-INTERVAL;VALUE=DURATION:PT1H
X-Robots-Tag:noindex
X-PUBLISHED-TTL:PT1H
BEGIN:VTIMEZONE
TZID:UTC
BEGIN:STANDARD
TZOFFSETFROM:+0000
TZOFFSETTO:+0000
TZNAME:UTC
DTSTART:20230101T000000
END:STANDARD
END:VTIMEZONE
BEGIN:VEVENT
DTSTART;TZID=UTC:20240911T010000
DTEND;TZID=UTC:20240911T040000
DTSTAMP:20260424T115112
CREATED:20240618T003232Z
LAST-MODIFIED:20240910T211830Z
UID:1486-1726016400-1726027200@www.newtonrepublicans.org
SUMMARY:Debate Watch
DESCRIPTION:  \nJoin the Newton Republican City Committee for a debate watch party to support President Donald Trump! We will watch live on the big screen in a private theater. Registration is free but required.
URL:https://www.newtonrepublicans.org/event/debate-watch/
LOCATION:West Newton Cinema\, 1296 Washington St.\, West Newton\, MA\, United States
ATTACH;FMTTYPE=image/png:https://www.newtonrepublicans.org/wp-content/uploads/2024/07/Screen-Shot-2024-07-05-at-8.09.15-PM.png
ORGANIZER;CN="NRCC":MAILTO:info@newtonrepublicans.org
END:VEVENT
END:VCALENDAR