BEGIN:VCALENDAR
VERSION:2.0
PRODID:-//Newton Republican City Committee - ECPv6.15.20//NONSGML v1.0//EN
CALSCALE:GREGORIAN
METHOD:PUBLISH
X-ORIGINAL-URL:https://www.newtonrepublicans.org
X-WR-CALDESC:Events for Newton Republican City Committee
REFRESH-INTERVAL;VALUE=DURATION:PT1H
X-Robots-Tag:noindex
X-PUBLISHED-TTL:PT1H
BEGIN:VTIMEZONE
TZID:UTC
BEGIN:STANDARD
TZOFFSETFROM:+0000
TZOFFSETTO:+0000
TZNAME:UTC
DTSTART:20230101T000000
END:STANDARD
END:VTIMEZONE
BEGIN:VEVENT
DTSTART;TZID=UTC:20240109T173000
DTEND;TZID=UTC:20240109T203000
DTSTAMP:20260424T234403
CREATED:20231228T182814Z
LAST-MODIFIED:20231228T182814Z
UID:1467-1704821400-1704832200@www.newtonrepublicans.org
SUMMARY:Newton Police Appreciation Night
DESCRIPTION:Join us in recognizing the fine men and women of the Newton Police Department \n\nAmerican Legion Post 440\n295 California St.\, Newton\, MA 02458\nTuesday\, January 9\, 2024\n5:30-8:30 P.M. \nTHIS YEAR’S KEYNOTE SPEAKER\nFrederick Ryan\nDirector\, Policy and Government Relations\, Alkermes\, Inc.\nRetired Chief of Police\, Arlington\, MA \nAwards and Recognition of Outstanding Community Achievement by Newton’s Finest \nMusic\nCash bar\nFood complimented by Newton area restaurants
URL:https://www.newtonrepublicans.org/event/newton-police-appreciation-night/
LOCATION:American Legion Post 440 295 California St. Newton\, 295 California St.\, Newton\, MA\, United States
END:VEVENT
END:VCALENDAR