BEGIN:VCALENDAR
VERSION:2.0
PRODID:-//Newton Republican City Committee - ECPv6.15.20//NONSGML v1.0//EN
CALSCALE:GREGORIAN
METHOD:PUBLISH
X-ORIGINAL-URL:https://www.newtonrepublicans.org
X-WR-CALDESC:Events for Newton Republican City Committee
REFRESH-INTERVAL;VALUE=DURATION:PT1H
X-Robots-Tag:noindex
X-PUBLISHED-TTL:PT1H
BEGIN:VTIMEZONE
TZID:UTC
BEGIN:STANDARD
TZOFFSETFROM:+0000
TZOFFSETTO:+0000
TZNAME:UTC
DTSTART:20210101T000000
END:STANDARD
END:VTIMEZONE
BEGIN:VEVENT
DTSTART;TZID=UTC:20220818T190000
DTEND;TZID=UTC:20220818T210000
DTSTAMP:20260426T011915
CREATED:20220810T214316Z
LAST-MODIFIED:20220810T214316Z
UID:1351-1660849200-1660856400@www.newtonrepublicans.org
SUMMARY:NRCC Meeting
DESCRIPTION:Join us for our next meeting where we will organize volunteers to collect signatures for the ballot referendum opposing driver’s licenses for illegal immigrants and discuss other volunteer opportunities (Newtonville Village Day on September 18\, Newton Upper Falls Village Day on October 2\, Newton Harvest Fair on October 16).\n\nRepublican state-wide have been invited to the meeting and will be announced when confirmed.\n\nPlease come to the meeting to sign for our ballot referendum if you have not done so already. Please bring any sheets you have with signatures and we will organize to get them to the appropriate city clerk by the deadline.\n\nPlease bring a friend and join us!
URL:https://www.newtonrepublicans.org/event/nrcc-meeting/
LOCATION:150 Lowell Ave\, 150 Lowell Avenue\, Newtonville\, 02460\, United States
ORGANIZER;CN="NRCC":MAILTO:info@newtonrepublicans.org
END:VEVENT
BEGIN:VEVENT
DTSTART;TZID=UTC:20220820T100000
DTEND;TZID=UTC:20220820T140000
DTSTAMP:20260426T011915
CREATED:20220819T160946Z
LAST-MODIFIED:20220819T160946Z
UID:1354-1660989600-1661004000@www.newtonrepublicans.org
SUMMARY:Last Call! Sign the Ballot Referendum to STOP Illegal Immigrants from Receiving Driver's Licenses
DESCRIPTION:Last Call! Sign the Ballot Referendum to STOP Illegal Immigrants from Receiving Driver’s Licenses\n\n\n\nSaturday\, August 20\, 10am-noon\nStar Market\n33 Austin St\nNewtonville\, MA 02460\n\n\n\nWe need your signature!\n\n\n\nPlease come this Saturday to Star Market to sign the ballot referendum to stop illegal immigrants from receiving driver’s licenses in Massachusetts.\n\n\n\nEven better\, take a sheet and help us stand out in the courtyard across the street to to help us expand our reach.\n\n\nPlease bring any sheets you have with signatures and we will organize to get them to the appropriate city clerk by the August 24 deadline.\n\n\n\nTo follow: State Committeewoman Susan Huffman’s birthday party at 2pm! Please e-mail info@newtonrepublicans.org for the address.
URL:https://www.newtonrepublicans.org/event/last-call-sign-the-ballot-referendum-to-stop-illegal-immigrants-from-receiving-drivers-licenses/
LOCATION:star market newtonville\, 33 Austin St\, Newtonville\, MA\, 02460
ORGANIZER;CN="NRCC":MAILTO:info@newtonrepublicans.org
END:VEVENT
END:VCALENDAR