BEGIN:VCALENDAR
VERSION:2.0
PRODID:-//Newton Republican City Committee - ECPv6.15.20//NONSGML v1.0//EN
CALSCALE:GREGORIAN
METHOD:PUBLISH
X-ORIGINAL-URL:https://www.newtonrepublicans.org
X-WR-CALDESC:Events for Newton Republican City Committee
REFRESH-INTERVAL;VALUE=DURATION:PT1H
X-Robots-Tag:noindex
X-PUBLISHED-TTL:PT1H
BEGIN:VTIMEZONE
TZID:UTC
BEGIN:STANDARD
TZOFFSETFROM:+0000
TZOFFSETTO:+0000
TZNAME:UTC
DTSTART:20210101T000000
END:STANDARD
END:VTIMEZONE
BEGIN:VEVENT
DTSTART;TZID=UTC:20220616T183000
DTEND;TZID=UTC:20220616T210000
DTSTAMP:20260426T040126
CREATED:20220609T165715Z
LAST-MODIFIED:20220616T020445Z
UID:1317-1655404200-1655413200@www.newtonrepublicans.org
SUMMARY:2000 Mules: Thursday 6/16\, 6:30pm\, West Newton Cinema
DESCRIPTION:  \n\n2000 Mules: A Dinesh D’Souza Film\n\n\nThursday\, June 16 @ 6:30 pm – West Newton Cinema\n\n\n\n$20 per person\n\n\n\nPurchase tickets here\, your name will be added to the reserved list.\n\n\nTickets also available at the door.\n\n\n\nSAVE THE DATE for Thursday\, June 23\, discussion by the Wellesley RTC\, featuring Republican Secretary of State Candidate Rayla Campbell.
URL:https://www.newtonrepublicans.org/event/2000-mules-thursday-6-16-630pm-west-newton-cinema/
LOCATION:West Newton Cinema\, 1296 Washington St.\, West Newton\, MA\, United States
ORGANIZER;CN="NRCC":MAILTO:info@newtonrepublicans.org
END:VEVENT
BEGIN:VEVENT
DTSTART;TZID=UTC:20220625T120000
DTEND;TZID=UTC:20220625T150000
DTSTAMP:20260426T040126
CREATED:20220621T022800Z
LAST-MODIFIED:20220621T022800Z
UID:1331-1656158400-1656169200@www.newtonrepublicans.org
SUMMARY:Auburndale Cove Picnic Area Cookout
DESCRIPTION:A beautiful area of Newton by the water’s edge with a playground immediately adjacent to the picnic area. Well shaded\, parking available\, wheelchair accessible\, bathrooms available. Bring your kids! There is also a great walking trail adjacent to the picnic area along the water.\n\n\n\nFrom the parking lot (intersection of W Pine St and Edgewater Park)\, keep the baseball field on your right and walk straight ahead to the picnic tables.\n\n\n\nPlease let us know if you can bring something. We would especially appreciate if you could loan us a cooler to use for beverages.\n\n\n\nWe always appreciate volunteers! Please let us know if you can help us\, especially with setting up or breaking down.\n\n\n\nFree to attend with a suggested donation of $25.\n\n\nhttps://secure.anedot.com/newton…/c8f023d2dfed609e69191\n\n\n\nCome and join us!
URL:https://www.newtonrepublicans.org/event/auburndale-cove-picnic-area-cookout/
LOCATION:Auburndale Cove Playground\, 104 W Pine St\, Aurburndale\, MA\, 02466\, United States
ORGANIZER;CN="NRCC":MAILTO:info@newtonrepublicans.org
END:VEVENT
END:VCALENDAR