BEGIN:VCALENDAR
VERSION:2.0
PRODID:-//Newton Republican City Committee - ECPv6.15.20//NONSGML v1.0//EN
CALSCALE:GREGORIAN
METHOD:PUBLISH
X-WR-CALNAME:Newton Republican City Committee
X-ORIGINAL-URL:https://www.newtonrepublicans.org
X-WR-CALDESC:Events for Newton Republican City Committee
REFRESH-INTERVAL;VALUE=DURATION:PT1H
X-Robots-Tag:noindex
X-PUBLISHED-TTL:PT1H
BEGIN:VTIMEZONE
TZID:UTC
BEGIN:STANDARD
TZOFFSETFROM:+0000
TZOFFSETTO:+0000
TZNAME:UTC
DTSTART:20210101T000000
END:STANDARD
END:VTIMEZONE
BEGIN:VEVENT
DTSTART;VALUE=DATE:20220521
DTEND;VALUE=DATE:20220523
DTSTAMP:20260425T135614
CREATED:20220206T040021Z
LAST-MODIFIED:20220206T040117Z
UID:1047-1653105600-1653191999@www.newtonrepublicans.org
SUMMARY:Massachusetts Republican Convention
DESCRIPTION:MA Convention
URL:https://www.newtonrepublicans.org/event/massachusetts-republican-convention/
LOCATION:MassMutual Center\, 1277 Main Street\, Springfield\, MA\, United States
ATTACH;FMTTYPE=image/png:https://www.newtonrepublicans.org/wp-content/uploads/2019/11/cropped-MA-GOP-logo2.png
END:VEVENT
BEGIN:VEVENT
DTSTART;TZID=UTC:20220206T213000
DTEND;TZID=UTC:20220206T230000
DTSTAMP:20260425T135614
CREATED:20220206T034503Z
LAST-MODIFIED:20220206T035159Z
UID:1035-1644183000-1644188400@www.newtonrepublicans.org
SUMMARY:NRCC Ward Caucuses
DESCRIPTION:  \n\n\n\n\n\n\n\n\n\n\n\n\n\n\n\n\nUpdated Time and Location!\nCaucus for State Convention Delegate Selection\nSunday\, February 6 at 4:30pm\nOn Zoom\nSee location information below\n\nAll Newton Republican Ward Committees hold a caucus at this meeting. \nPer instruction of the Massachusetts GOP\, each Newton ward will meet to elect delegates and two alternates to the 2022 Massachusetts Republican State Convention being held at MassMutual Center in Springfield\, MA on May 21\, 2022. \nOnly full voting members of the individual ward committees (as of December 31\, 2021) may vote to elect delegates and alternates. Note: Proxy votes are not permitted\, but you do not need to be present to be elected as a delegate. \nIf you are unable to be at the meeting but would like to be nominated to serve as a delegate or alternate\, please reply to this e-mail so that your name can be placed in nomination.  \nAny registered Republican in a ward is eligible to be nominated to serve as a delegate or alternate by the ward. \nIf you know a registered Republican in Newton who would like to serve\, please invite them to the meeting. \n\n\n\n\n\n\n\n\n\n\n\n\n\n\n\n\n\n\n\n\n\n\n\n\n\n\n\n\n\n\n\n\n\n\n\n\n\n\n\n\n\n\n\n\n\n\n\n\n\n\nTopic: Newton Republican City Committee\nTime: Sunday\, Feb 6\, 2022 4:30 PM Eastern Time (US and Canada)Join Zoom Meeting\nhttps://us02web.zoom.us/j/88026731484?pwd=ZlpnRCtuRUk4Q1FwVW8vV3pmcndiUT09Meeting ID: 880 2673 1484\nPasscode: 602940\nOne tap mobile\n+13017158592\,\,88026731484#\,\,\,\,*602940# US (Washington DC)\n+13126266799\,\,88026731484#\,\,\,\,*602940# US (Chicago)Dial by your location\n+1 301 715 8592 US (Washington DC)\n+1 312 626 6799 US (Chicago)\n+1 929 205 6099 US (New York)\n+1 253 215 8782 US (Tacoma)\n+1 346 248 7799 US (Houston)\n+1 669 900 6833 US (San Jose)\nMeeting ID: 880 2673 1484\nPasscode: 602940\nFind your local number: https://us02web.zoom.us/u/keGBcoiA45\n\n\n\n\n\n\n\n\n\n\n\n\n\n\n\n 
URL:https://www.newtonrepublicans.org/event/nrcc-ward-caucuses/
LOCATION:ZOOM
ATTACH;FMTTYPE=image/png:https://www.newtonrepublicans.org/wp-content/uploads/2021/07/elephant-only-200.png
ORGANIZER;CN="NRCC":MAILTO:info@newtonrepublicans.org
END:VEVENT
END:VCALENDAR