BEGIN:VCALENDAR
VERSION:2.0
PRODID:-//Newton Republican City Committee - ECPv6.15.20//NONSGML v1.0//EN
CALSCALE:GREGORIAN
METHOD:PUBLISH
X-WR-CALNAME:Newton Republican City Committee
X-ORIGINAL-URL:https://www.newtonrepublicans.org
X-WR-CALDESC:Events for Newton Republican City Committee
REFRESH-INTERVAL;VALUE=DURATION:PT1H
X-Robots-Tag:noindex
X-PUBLISHED-TTL:PT1H
BEGIN:VTIMEZONE
TZID:UTC
BEGIN:STANDARD
TZOFFSETFROM:+0000
TZOFFSETTO:+0000
TZNAME:UTC
DTSTART:20210101T000000
END:STANDARD
END:VTIMEZONE
BEGIN:VEVENT
DTSTART;TZID=UTC:20240407T123000
DTEND;TZID=UTC:20240407T133000
DTSTAMP:20260422T011746
CREATED:20240402T182200Z
LAST-MODIFIED:20240402T182219Z
UID:1474-1712493000-1712496600@www.newtonrepublicans.org
SUMMARY:Rebuild the Hostage Wall
DESCRIPTION:Sunday\, April 7 @ 12:30pm\n255 Homer St\nNewton \n  \nPosters of Israeli hostages displayed on a homeowner’s fence in Newton\, MA were vandalized on the night of March 16\, prompting a hate crime investigation by the police. The following day\, the homeowner discovered that the faces of Israeli hostages lining their fence had been either blacked out with spray paint or scratched away. Additionally\, “Free Gaza” was spray-painted on a sign expressing the family’s solidarity with Israel. \nIn response to these reprehensible acts\, we are joining CAMERA (Committee for Accuracy in Middle East Reporting and Analysis) and coming together to rebuild the Hostage Wall. Your presence and support are crucial as we stand in solidarity against hate and bigotry. \nJoin us for the “Rebuild the Hostage Wall” event. \nWe look forward to seeing you there!
URL:https://www.newtonrepublicans.org/event/rebuild-the-hostage-wall/
LOCATION:255 Homer St. Newton\, 255 Homer St\, Newton\, MA\, United States
END:VEVENT
BEGIN:VEVENT
DTSTART;TZID=UTC:20240109T173000
DTEND;TZID=UTC:20240109T203000
DTSTAMP:20260422T011746
CREATED:20231228T182814Z
LAST-MODIFIED:20231228T182814Z
UID:1467-1704821400-1704832200@www.newtonrepublicans.org
SUMMARY:Newton Police Appreciation Night
DESCRIPTION:Join us in recognizing the fine men and women of the Newton Police Department \n\nAmerican Legion Post 440\n295 California St.\, Newton\, MA 02458\nTuesday\, January 9\, 2024\n5:30-8:30 P.M. \nTHIS YEAR’S KEYNOTE SPEAKER\nFrederick Ryan\nDirector\, Policy and Government Relations\, Alkermes\, Inc.\nRetired Chief of Police\, Arlington\, MA \nAwards and Recognition of Outstanding Community Achievement by Newton’s Finest \nMusic\nCash bar\nFood complimented by Newton area restaurants
URL:https://www.newtonrepublicans.org/event/newton-police-appreciation-night/
LOCATION:American Legion Post 440 295 California St. Newton\, 295 California St.\, Newton\, MA\, United States
END:VEVENT
BEGIN:VEVENT
DTSTART;TZID=UTC:20231207T190000
DTEND;TZID=UTC:20231207T210000
DTSTAMP:20260422T011746
CREATED:20231228T182956Z
LAST-MODIFIED:20231228T182956Z
UID:1471-1701975600-1701982800@www.newtonrepublicans.org
SUMMARY:Holiday Party
DESCRIPTION:Merriest Holiday Party!\nNewton Republican City Committee Holiday Party \nThursday\, December 7\n7pm \nWellesley Italio Club\n75 Pleasant St.\nWellesley\, MA 02482\n\n\nCome celebrate the season at our combined holiday party with the Wellesley Republican Town Committee. \nWe have made this a potluck this year! One generous attendee is bringing 50 Ginger Betty cookies! We also have a meat/cheese tray\, shrimp cocktail\, meatballs and tomato sauce\, and pasta to share. We will have a coffee bar with the cookie table. A cash bar is downstairs. \nWe welcome you to bring something to share or a donation. \nPlease share\, guests welcomed. Please RSVP here!
URL:https://www.newtonrepublicans.org/event/holiday-party/
LOCATION:Wellesley Italo Club\, Wellesley Italo Club 75 Pleasant St.\, Wellesley\, MA\, 02482\, United States
ORGANIZER;CN="NRCC":MAILTO:info@newtonrepublicans.org
END:VEVENT
BEGIN:VEVENT
DTSTART;TZID=UTC:20230911T193000
DTEND;TZID=UTC:20230911T203000
DTSTAMP:20260422T011746
CREATED:20230831T124454Z
LAST-MODIFIED:20230831T125210Z
UID:1456-1694460600-1694464200@www.newtonrepublicans.org
SUMMARY:Newton Republican City Committee
DESCRIPTION:  \n\nSave the date for our next Newton Republican City Committee meeting to follow the Annual 9-11 commemoration @ 6pm at the Newton 9-11 Memorial. \nAgenda for the Newton Republican City Committee meeting to follow. \n  \n\nAdd event to calendar
URL:https://www.newtonrepublicans.org/event/newton-republican-city-committee/
LOCATION:150 Lowell Ave\, 150 Lowell Avenue\, Newtonville\, 02460\, United States
ORGANIZER;CN="NRCC":MAILTO:info@newtonrepublicans.org
END:VEVENT
BEGIN:VEVENT
DTSTART;TZID=UTC:20230911T180000
DTEND;TZID=UTC:20230911T190000
DTSTAMP:20260422T011746
CREATED:20230831T134548Z
LAST-MODIFIED:20230831T134548Z
UID:1461-1694455200-1694458800@www.newtonrepublicans.org
SUMMARY:Annual 9-11 Commemoration
DESCRIPTION:The Newton 9-11 Memorial Committee & City of Newton \nCordially invite you to our \n\nAnnual 9-11 Commemoration \n\nMonday\, September 11th\, 2023 at the \nNewton 9-11 Memorial \n\n(on the front lawn of the Newton Centre\nFire Department Headquarters) \n\n1164 Centre Street \n\n6:00 PM \n 
URL:https://www.newtonrepublicans.org/event/annual-9-11-commemoration/
LOCATION:Newton 9-11 Memorial\, 1164 Centre St\, Newton\, MA\, United States
END:VEVENT
BEGIN:VEVENT
DTSTART;TZID=UTC:20230827T130000
DTEND;TZID=UTC:20230827T170000
DTSTAMP:20260422T011746
CREATED:20230831T123656Z
LAST-MODIFIED:20230831T123656Z
UID:1452-1693141200-1693155600@www.newtonrepublicans.org
SUMMARY:Annual District BBQ
DESCRIPTION:Join us for our annual State Senate District/State Committee (Newton\, Wellesley\, and Brookline) BBQ. \nSpecial guests MassGOP Chairman Amy Carnavale and GO USA’s John Paul Moran. \nPlease RSVP and bring a side dish or dessert if you are able.
URL:https://www.newtonrepublicans.org/event/annual-district-bbq/
LOCATION:69 Temple Rd. Wellesley\, MA\, 69 Temple Rd.\, Wellesley\, MA
ORGANIZER;CN="NRCC":MAILTO:info@newtonrepublicans.org
END:VEVENT
BEGIN:VEVENT
DTSTART;TZID=UTC:20230723T153000
DTEND;TZID=UTC:20230723T190000
DTSTAMP:20260422T011746
CREATED:20230710T125325Z
LAST-MODIFIED:20230710T125325Z
UID:1447-1690126200-1690138800@www.newtonrepublicans.org
SUMMARY:Margot's 100th!
DESCRIPTION:Margot Einstein\, an exemplary Newton activist\, is turning 100! \nJoin us as we celebrate Margot and support THE TERRIFIC TEN charities over a kosher dinner. Tickets must be purchased by Friday\, July 14.  Online $118 at cjui.org/donate\, by check $100 made out to CJUI and mailed to CJUI\, Box 515\, New Town\, MA 02456\, table of 10 $1\,500 includes sponsor listing. All donations will be shared equally with the ten charities by CJUI\, a 501(c)3 organization. \n 
URL:https://www.newtonrepublicans.org/event/margots-100th/
LOCATION:American Legion Post 440 295 California St. Newton\, 295 California St.\, Newton\, MA\, United States
ORGANIZER;CN="Organizer":MAILTO:info@velikorodnov.com
END:VEVENT
BEGIN:VEVENT
DTSTART;TZID=UTC:20230720T190000
DTEND;TZID=UTC:20230720T200000
DTSTAMP:20260422T011746
CREATED:20230710T124730Z
LAST-MODIFIED:20230710T124751Z
UID:1443-1689879600-1689883200@www.newtonrepublicans.org
SUMMARY:Newton Republican City Committee Meeting
DESCRIPTION:Please save the date for our next Newton Republican City Committee meeting. \nAgenda to follow. \n\nPlease note we will use the side entrance.
URL:https://www.newtonrepublicans.org/event/newton-republican-city-committee-meeting-3/
LOCATION:150 Lowell Ave\, 150 Lowell Avenue\, Newtonville\, 02460\, United States
ORGANIZER;CN="NRCC":MAILTO:info@newtonrepublicans.org
END:VEVENT
BEGIN:VEVENT
DTSTART;TZID=UTC:20230525T190000
DTEND;TZID=UTC:20230525T190000
DTSTAMP:20260422T011746
CREATED:20230520T231243Z
LAST-MODIFIED:20230520T231243Z
UID:1440-1685041200-1685041200@www.newtonrepublicans.org
SUMMARY:Q&A with Newton Superintendent Dr. Anna Nolin
DESCRIPTION:Join us in welcoming Dr. Anna Nolin\, the new Superintendent of Newton Schools\, this Thursday. \nDr. Nolin is seeking the feedback of the community on the Newton Schools before she officially begins the position in July. \nPlease come to introduce yourself and to answer: “What are some things we should stop\, start\, or continue in Newton Schools?“
URL:https://www.newtonrepublicans.org/event/qa-with-newton-superintendent-dr-anna-nolin/
LOCATION:150 Lowell Ave\, 150 Lowell Avenue\, Newtonville\, 02460\, United States
ORGANIZER;CN="NRCC":MAILTO:info@newtonrepublicans.org
END:VEVENT
BEGIN:VEVENT
DTSTART;TZID=UTC:20230420T190000
DTEND;TZID=UTC:20230420T200000
DTSTAMP:20260422T011746
CREATED:20230410T185616Z
LAST-MODIFIED:20230410T185616Z
UID:1428-1682017200-1682020800@www.newtonrepublicans.org
SUMMARY:Newton Republican City Committee Meeting
DESCRIPTION:Thursday\, April 20 @ 7pm \n\nPlease join us for our next Newton Republican City Committee meeting where we will discuss:\n\n\nFollow up from the override vote\nBylaws update\nOutreach for annual meeting\nUpdate from the State Committee\n\n\n\nAdd event to calendar \n     
URL:https://www.newtonrepublicans.org/event/newton-republican-city-committee-meeting-2/
LOCATION:150 Lowell Ave\, 150 Lowell Avenue\, Newtonville\, 02460\, United States
ORGANIZER;CN="NRCC":MAILTO:info@newtonrepublicans.org
END:VEVENT
BEGIN:VEVENT
DTSTART;TZID=UTC:20230413T173000
DTEND;TZID=UTC:20230413T190000
DTSTAMP:20260422T011746
CREATED:20230410T183800Z
LAST-MODIFIED:20230411T204652Z
UID:1419-1681407000-1681412400@www.newtonrepublicans.org
SUMMARY:Standout: No Drag in Newton Schools
DESCRIPTION:Confirmed by e-mail from Henry Turner\, Newton North HS Principal\, to the Newton North Community on Friday\, April 7. \nA drag queen performance by “Missy Streak\,” self-described as a “Boston clown whore”\, is scheduled at Newton North HS during the school day as an assembly during the “G block” this Friday\, April 14\, as part of Newton North’s ToBeGlad Day (Transgender BIsexual Gay and Lesbian Awareness Day). \nJoin our standout on Thursday\, April 13\nNewton Centre Green\n1221 Centre St. Newton Centre 02459\n5:30-7pm\n  \n \n\nSIGN OUR PETITION to stop the Newton North HS drag performance this Friday\, April 14\nhttps://ourfight.online/NoDragNewton
URL:https://www.newtonrepublicans.org/event/protest-no-drag-in-newton-schools/
LOCATION:Newton Centre\, Centre and Beacon St\, Newton Centre Green\, MA\, United States
ORGANIZER;CN="NRCC":MAILTO:info@newtonrepublicans.org
END:VEVENT
BEGIN:VEVENT
DTSTART;TZID=UTC:20230216T190000
DTEND;TZID=UTC:20230216T190000
DTSTAMP:20260422T011746
CREATED:20230210T140715Z
LAST-MODIFIED:20230210T183655Z
UID:1415-1676574000-1676574000@www.newtonrepublicans.org
SUMMARY:Newton Republican City Committee Meeting
DESCRIPTION:Special guest Lonnie Brennan of the Boston Broadside\nNominations and election of a new Secretary\nOrganize our opposition to the proposed new general override and debt exclusion overrides in Newton
URL:https://www.newtonrepublicans.org/event/newton-republican-city-committee-meeting/
LOCATION:150 Lowell Ave\, 150 Lowell Avenue\, Newtonville\, 02460\, United States
ORGANIZER;CN="NRCC":MAILTO:info@newtonrepublicans.org
END:VEVENT
BEGIN:VEVENT
DTSTART;TZID=UTC:20221221T190000
DTEND;TZID=UTC:20221221T220000
DTSTAMP:20260422T011746
CREATED:20221211T000403Z
LAST-MODIFIED:20221211T000403Z
UID:1412-1671649200-1671660000@www.newtonrepublicans.org
SUMMARY:Merriest Holiday Party! Republican City Committee Party
DESCRIPTION:Come celebrate the season with our first combined holiday party with the Wellesley Republican Town Committee!\n\nPlease bring a dozen cookies to share at a cookie table where we will host a cookie swap with coffee and have bags for people to bring cookies home.\n\nAn Italian meal will be served\, cash bar available. \n\n\nPlease RSVP here:\nevite.me/Yr2x5EdH44
URL:https://www.newtonrepublicans.org/event/merriest-holiday-party-republican-city-committee-party/
LOCATION:Wellesley Italo Club\, Wellesley Italo Club 75 Pleasant St.\, Wellesley\, MA\, 02482\, United States
ORGANIZER;CN="NRCC":MAILTO:info@newtonrepublicans.org
END:VEVENT
BEGIN:VEVENT
DTSTART;TZID=UTC:20221201T190000
DTEND;TZID=UTC:20221201T190000
DTSTAMP:20260422T011746
CREATED:20221126T032748Z
LAST-MODIFIED:20221126T032748Z
UID:1410-1669921200-1669921200@www.newtonrepublicans.org
SUMMARY:Newton Republican City Committee Meeting
DESCRIPTION:Thursday\, December 1 @ 7pm \n150 Lowell Ave\nNewtonville\, MA 02460\nJoin us as we discuss the proposed new general override and debt exclusion overrides in Newton and organize our opposition
URL:https://www.newtonrepublicans.org/event/oppose-the-override/
LOCATION:150 Lowell Ave\, 150 Lowell Avenue\, Newtonville\, 02460\, United States
ORGANIZER;CN="NRCC":MAILTO:info@newtonrepublicans.org
END:VEVENT
BEGIN:VEVENT
DTSTART;TZID=UTC:20221101T170000
DTEND;TZID=UTC:20221101T190000
DTSTAMP:20260422T011746
CREATED:20221031T164321Z
LAST-MODIFIED:20221031T164321Z
UID:1408-1667322000-1667329200@www.newtonrepublicans.org
SUMMARY:Dial for Diehl
DESCRIPTION:Dial for Diehl!\n\n\n\nTuesday\, October 25\n5-7pm\n\n\n\nDiehl Campaign Office\n14 Warren St\, 2nd Floor\nWaltham\n\n\n\nHelp us get out the vote by joining us on Tuesday at the Diehl Campaign Headquarters in Waltham to make calls from your cell phone.
URL:https://www.newtonrepublicans.org/event/volunteer-on-tuesday-at-the-diehl-campaign-headquarters-in-waltham-to-make-calls-from-your-cell-phone/
LOCATION:14 Warren St\, 2nd Floor Waltham\, 14 Warren St. 2nd floor\, Waltham\, MA\, United States
END:VEVENT
BEGIN:VEVENT
DTSTART;TZID=UTC:20221027T190000
DTEND;TZID=UTC:20221027T200000
DTSTAMP:20260422T011746
CREATED:20221007T152642Z
LAST-MODIFIED:20221007T152653Z
UID:1392-1666897200-1666900800@www.newtonrepublicans.org
SUMMARY:NRCC Meeting
DESCRIPTION:Join us as we work on our get out the vote effort
URL:https://www.newtonrepublicans.org/event/nrcc-meeting-3/
LOCATION:150 Lowell Ave\, 150 Lowell Avenue\, Newtonville\, 02460\, United States
ORGANIZER;CN="NRCC":MAILTO:info@newtonrepublicans.org
END:VEVENT
BEGIN:VEVENT
DTSTART;TZID=UTC:20221027T174500
DTEND;TZID=UTC:20221027T183000
DTSTAMP:20260422T011746
CREATED:20221024T213326Z
LAST-MODIFIED:20221024T213326Z
UID:1403-1666892700-1666895400@www.newtonrepublicans.org
SUMMARY:Standout with Geoff Diehl
DESCRIPTION:Standout with Geoff Diehl\n\nThursday\, October 27\n5:45-6:30pm \nHoly Name Rotary\n1689 Centre St\nWest Roxbury \nMeet and support our candidate for Governor\, Geoff Diehl\, by joining him in a standout prior to his fundraiser at the Irish Social Club. \nJoin them at the fundraiser to follow\, or join us in Newton at 7pm for our Newton Republican City Committee meeting discussing our get out the vote effort and collaboration with the Newton Taxpayers Association on the proposed tax override. \n\n\n\n\n\n\n\n\n\n\n\n\n\n\n\n\n\n\n\nImagine living in a state that is governed with fiscal responsibility\, respectful to our first responders\, and protective of our rights. Support Geoff today!
URL:https://www.newtonrepublicans.org/event/standout-with-geoff-diehl/
LOCATION:Holy Name Rotary\, 1689 Centre St\, West Roxbury\, MA\, United States
END:VEVENT
BEGIN:VEVENT
DTSTART;TZID=UTC:20221025T170000
DTEND;TZID=UTC:20221025T190000
DTSTAMP:20260422T011746
CREATED:20221024T210539Z
LAST-MODIFIED:20221024T210539Z
UID:1400-1666717200-1666724400@www.newtonrepublicans.org
SUMMARY:Dial for Diehl
DESCRIPTION:Dial for Diehl! \nTuesday\, October 25\n5-7pm \nDiehl Campaign Office\n14 Warren St\, 2nd Floor\nWaltham \nReddialer.gop is a fast\, easy way to reach potential voters that disguises your phone number to people you call. You can access this from your smart phone or a computer with a landline. \nYou can help us get out the vote by joining us on Tuesday at the Diehl Campaign Headquarters in Waltham to make calls from your cell phone. \nIf you can read this\, you can help us! Join us on Tuesday\, learn the app\, make calls with other volunteers\, and help us GET OUT THE VOTE!
URL:https://www.newtonrepublicans.org/event/help-the-diehl-campaign/
LOCATION:14 Warren St\, 2nd Floor Waltham\, 14 Warren St. 2nd floor\, Waltham\, MA\, United States
END:VEVENT
BEGIN:VEVENT
DTSTART;TZID=UTC:20221020T193000
DTEND;TZID=UTC:20221020T210000
DTSTAMP:20260422T011746
CREATED:20221015T025646Z
LAST-MODIFIED:20221015T025646Z
UID:1398-1666294200-1666299600@www.newtonrepublicans.org
SUMMARY:Diehl Debate Watch Party
DESCRIPTION:Diehl Debate Watch Party\n\n\n\n\n\n\n\n\n\n\n\n\n\n\n\n\n\n\n\n\n\n\n\n\n\n\n\n\n\n\n\nThursday\, October 20\n7:30pm \nWest Newton Cinema\n1296 Washington St\nWest Newton\, MA 02465 \nJoin us as we watch our candidate for Governor\, Geoff Diehl\, debate Maura Healey live on the big screen. Note the later start time for this second debate \nReserve your $20 tickets in advance here or at the door. \n\n\n\n\n\n\n\n\n\n\n\n\n\n\n\n\n\n\n\n\nPurchase Tickets Here
URL:https://www.newtonrepublicans.org/event/diehl-debate-watch-party-2/
LOCATION:West Newton Cinema\, 1296 Washington St.\, West Newton\, MA\, United States
ORGANIZER;CN="NRCC":MAILTO:info@newtonrepublicans.org
END:VEVENT
BEGIN:VEVENT
DTSTART;TZID=UTC:20221016T100000
DTEND;TZID=UTC:20221016T150000
DTSTAMP:20260422T011746
CREATED:20221007T161151Z
LAST-MODIFIED:20221007T161151Z
UID:1395-1665914400-1665932400@www.newtonrepublicans.org
SUMMARY:Harvest Fair
DESCRIPTION:Join us as we promote the NRCC\, our candidates\, and our positions on Questions 1 and 4 (NO!)
URL:https://www.newtonrepublicans.org/event/harvest-fair/
LOCATION:Newton Centre\, Centre and Beacon St\, Newton Centre Green\, MA\, United States
ORGANIZER;CN="NRCC":MAILTO:info@newtonrepublicans.org
END:VEVENT
BEGIN:VEVENT
DTSTART;TZID=UTC:20221013T193000
DTEND;TZID=UTC:20221013T203000
DTSTAMP:20260422T011746
CREATED:20221001T135000Z
LAST-MODIFIED:20221001T135000Z
UID:1386-1665689400-1665693000@www.newtonrepublicans.org
SUMMARY:NRCC Meeting
DESCRIPTION:Vote to elect a new Treasurer and organize our efforts to get out the vote. \nNote the later start time (7:30pm).
URL:https://www.newtonrepublicans.org/event/nrcc-meeting-2/
LOCATION:150 Lowell Ave\, 150 Lowell Avenue\, Newtonville\, 02460\, United States
ORGANIZER;CN="NRCC":MAILTO:info@newtonrepublicans.org
END:VEVENT
BEGIN:VEVENT
DTSTART;TZID=UTC:20221012T183000
DTEND;TZID=UTC:20221012T203000
DTSTAMP:20260422T011746
CREATED:20221006T161331Z
LAST-MODIFIED:20221006T161331Z
UID:1388-1665599400-1665606600@www.newtonrepublicans.org
SUMMARY:Diehl Debate Watch Party
DESCRIPTION:Diehl Debate Watch Party \n\nWednesday\, October 12\n6:30pm \nWest Newton Cinema\n1296 Washington St\nWest Newton\, MA 02465 \nJoin as we watch our candidate for Governor\, Geoff Diehl\, debate Maura Healey live on the big screen. \nReserve your $20 tickets in advance here or at the door.\n\n\n\n\n\n\n\n\n\n\n\n\n\n\n\n\n\n\n\n\nPurchase Tickets Here
URL:https://www.newtonrepublicans.org/event/diehl-debate-watch-party/
LOCATION:West Newton Cinema\, 1296 Washington St.\, West Newton\, MA\, United States
ORGANIZER;CN="NRCC":MAILTO:info@newtonrepublicans.org
END:VEVENT
BEGIN:VEVENT
DTSTART;TZID=UTC:20221010T090000
DTEND;TZID=UTC:20221010T110000
DTSTAMP:20260422T011746
CREATED:20221001T133821Z
LAST-MODIFIED:20221001T134433Z
UID:1375-1665392400-1665399600@www.newtonrepublicans.org
SUMMARY:Columbus Day Parade and Celebration
DESCRIPTION:Please join us on Monday\, Oct 10th for a rolling parade (see flyer if you want to be in the parade – assembly begins at 8am)!\n\n \nThe Parade will go through the streets of Nonantum beginning at 9am!\n\n \nFOLLOWED by a Columbus Day rally celebration from 10am to 11am at Coletti-Magni Park on Watertown Street in Newton!! \n \nTHERE WILL BE ITALIAN 🎶 MUSIC\, COFFEE ☕ & DONUTS 🍩 and a few guest speakers!
URL:https://www.newtonrepublicans.org/event/fundraiser-for-geoff-diehl/
LOCATION:100 Walnut St\, 100 Walnut St\, Newton\, MA\, United States
ORGANIZER;CN="Organizer":MAILTO:info@velikorodnov.com
END:VEVENT
BEGIN:VEVENT
DTSTART;TZID=UTC:20221008T100000
DTEND;TZID=UTC:20221008T120000
DTSTAMP:20260422T011746
CREATED:20221006T170414Z
LAST-MODIFIED:20221006T170414Z
UID:1390-1665223200-1665230400@www.newtonrepublicans.org
SUMMARY:Get Out The Vote!
DESCRIPTION:Get Out The Vote! \nSaturday\, October 8 \nMeet at 10am\nStar Market Parking Lot\n33 Austin St\nNewtonville\, MA 02460\n\nWe need your help! \nDid you know that in our neighboring town of Wellesley\, only 17% of registered Republicans voted in the primary election?  \nPlease come to help us get our supporters out to vote for our candidates and to answer NO on Question 4 to stop illegal immigrants from receiving driver’s licenses in Massachusetts. \nWe will meet and organize\, then selectively door knock in neighborhoods north of the Mass Pike in Newton. \nHelp us extend our reach by volunteering this Saturday.
URL:https://www.newtonrepublicans.org/event/get-out-the-vote/
LOCATION:star market newtonville\, 33 Austin St\, Newtonville\, MA\, 02460
ORGANIZER;CN="NRCC":MAILTO:info@newtonrepublicans.org
END:VEVENT
BEGIN:VEVENT
DTSTART;TZID=UTC:20221002T103000
DTEND;TZID=UTC:20221002T123000
DTSTAMP:20260422T011746
CREATED:20221001T134718Z
LAST-MODIFIED:20221001T134800Z
UID:1383-1664706600-1664713800@www.newtonrepublicans.org
SUMMARY:Fundraiser for Geoff Diehl
DESCRIPTION:Join us Sunday 10/2 at 10:30am for a meet and greet and fundraiser for Geoff Diehl. \nPlease RSVP to host committee member Sande Young.
URL:https://www.newtonrepublicans.org/event/fundraiser-for-geoff-diehl-2/
LOCATION:18 Cynthia Rd. Newton\, 18 Cynthia Rd\, Newton\, MA\, United States
END:VEVENT
BEGIN:VEVENT
DTSTART;TZID=UTC:20220919T183000
DTEND;TZID=UTC:20220919T203000
DTSTAMP:20260422T011746
CREATED:20220919T122101Z
LAST-MODIFIED:20220919T122101Z
UID:1371-1663612200-1663619400@www.newtonrepublicans.org
SUMMARY:Join us tonight for a fundraiser for Attorney General candidate Jay McMahon
DESCRIPTION:Monday\, September 19\n6:30pm\n\n\nHome of Steve Snider\n122 Shornecliffe Rd\nNewton
URL:https://www.newtonrepublicans.org/event/join-us-tonight-for-a-fundraiser-for-attorney-general-candidate-jay-mcmahon/
LOCATION:MA
END:VEVENT
BEGIN:VEVENT
DTSTART;TZID=UTC:20220918T120000
DTEND;TZID=UTC:20220918T160000
DTSTAMP:20260422T011746
CREATED:20220914T001414Z
LAST-MODIFIED:20220914T001414Z
UID:1367-1663502400-1663516800@www.newtonrepublicans.org
SUMMARY:Newtonville Village Day
DESCRIPTION:Newtonville Village Day  \nBOOTHS SOLD OUT THIS YEAR! \n\nSunday\, September 18\n12-4pm\nNewtonville Center\n345 Walnut St \nVolunteer at Newtonville Village Day this year to promote the Newton Republican City Committee and our candidates!\n\nPlease join us from noon-2pm or 2-4pm to help us staff the booth. \n\nE-mail info@newtonrepublicans.org to volunteer. \n\n 
URL:https://www.newtonrepublicans.org/event/newtonville-village-day/
LOCATION:345 Walnut St. Newton\, MA 02460\, 345 Walnut St\, Newtonville\, MA\, 02460\, United States
ORGANIZER;CN="NRCC":MAILTO:info@newtonrepublicans.org
END:VEVENT
BEGIN:VEVENT
DTSTART;TZID=UTC:20220911T180000
DTEND;TZID=UTC:20220911T190000
DTSTAMP:20260422T011746
CREATED:20220909T074016Z
LAST-MODIFIED:20220909T074016Z
UID:1363-1662919200-1662922800@www.newtonrepublicans.org
SUMMARY:Newton's 21st Remembrance Day of 9/11
DESCRIPTION:
URL:https://www.newtonrepublicans.org/event/newtons-21st-remembrance-day-of-9-11/
LOCATION:Newton 9-11 Memorial\, 1164 Centre St\, Newton\, MA\, United States
END:VEVENT
BEGIN:VEVENT
DTSTART;TZID=UTC:20220910T160000
DTEND;TZID=UTC:20220910T190000
DTSTAMP:20260422T011746
CREATED:20220831T200020Z
LAST-MODIFIED:20220831T200303Z
UID:1359-1662825600-1662836400@www.newtonrepublicans.org
SUMMARY:2nd ANNUAL MASSGOP VETERANS APPRECIATION AND POST-PRIMARY UNITY COOKOUT! JOIN US at the BARN
DESCRIPTION:2nd ANNUAL MASSGOP VETERANS APPRECIATION AND POST-PRIMARY UNITY COOKOUT! JOIN US at the BARN\n\nCookout time: Saturday\, Sept. 10\, 4 p.m. – 7 p.m.\nDonation: $100/$75/$50 per person\nLocation: Lyons Family Barn\, 12 Highvale Lane\, Andover\nRSVP: EG@MassGOP.com
URL:https://www.newtonrepublicans.org/event/2nd-annual-massgop-veterans-appreciation-and-post-primary-unity-cookout-join-us-at-the-barn/
LOCATION:MA
END:VEVENT
BEGIN:VEVENT
DTSTART;VALUE=DATE:20220906
DTEND;VALUE=DATE:20220907
DTSTAMP:20260422T011746
CREATED:20220828T042445Z
LAST-MODIFIED:20220828T042445Z
UID:1357-1662422400-1662508799@www.newtonrepublicans.org
SUMMARY:Write in Our Republican Candidates
DESCRIPTION:The following candidates need you to write them in when you vote in the Republican Primary to get on the ballot this November. Please write them in!\n\n\n\nState Representative for 11th Middlesex:\nDory Codington\, http://doryshistoricals.com/statehouse/\n\n\n\nState Senate for 1st Middlesex and Norfolk\, (Wellesley\, Newton\, and Brookline):\nSteve Yanovsky\n\n\n\nGovernor’s Council\, 3rd District:\nMark Holt\, http://markiholt.com\n\n\n\nCongressional District\, 4th:\nDavid Cannata\, https://votecannata.com
URL:https://www.newtonrepublicans.org/event/write-in-our-republican-candidates/
LOCATION:MA
END:VEVENT
END:VCALENDAR