BEGIN:VCALENDAR
VERSION:2.0
PRODID:-//Newton Republican City Committee - ECPv6.15.20//NONSGML v1.0//EN
CALSCALE:GREGORIAN
METHOD:PUBLISH
X-ORIGINAL-URL:https://www.newtonrepublicans.org
X-WR-CALDESC:Events for Newton Republican City Committee
REFRESH-INTERVAL;VALUE=DURATION:PT1H
X-Robots-Tag:noindex
X-PUBLISHED-TTL:PT1H
BEGIN:VTIMEZONE
TZID:UTC
BEGIN:STANDARD
TZOFFSETFROM:+0000
TZOFFSETTO:+0000
TZNAME:UTC
DTSTART:20240101T000000
END:STANDARD
END:VTIMEZONE
BEGIN:VEVENT
DTSTART;TZID=UTC:20250721T190000
DTEND;TZID=UTC:20250721T200000
DTSTAMP:20260421T233736
CREATED:20250721T163246Z
LAST-MODIFIED:20250721T163246Z
UID:1562-1753124400-1753128000@www.newtonrepublicans.org
SUMMARY:Guest Speaker: Rasheed N. Walters
DESCRIPTION:Join us for an engaging evening with Rasheed N. Walters—a Boston-based entrepreneur\, historian\, political commentator\, and public relations executive known for his bold\, conservative perspectives on policy and governance. \nA Dorchester native and graduate of Morehouse College and UMass Boston\, Rasheed has become a respected voice in national media\, contributing to Fox News\, the Daily Caller\, and the Boston Herald. \nHe made headlines in 2023 for successfully leading a federal lawsuit against Boston’s redistricting plan and is an expert on why our physical streets remain in such disrepair and who is really benefiting from bike lanes. \nRasheed also runs a public relations firm\, and has appeared on networks such as Fox News\, Newsmax\, Scripps News\, and radio shows including WBZ’s NightSide with Dan Rea. \nDon’t miss this opportunity to hear firsthand from a rising conservative voice shaping the conversation on governance and the future of our cities.
URL:https://www.newtonrepublicans.org/event/guest-speaker-rasheed-n-walters/
LOCATION:150 Lowell Ave\, 150 Lowell Avenue\, Newtonville\, 02460\, United States
ORGANIZER;CN="NRCC":MAILTO:info@newtonrepublicans.org
END:VEVENT
BEGIN:VEVENT
DTSTART;TZID=UTC:20250901T130000
DTEND;TZID=UTC:20250901T150000
DTSTAMP:20260421T233736
CREATED:20251110T225342Z
LAST-MODIFIED:20251110T225342Z
UID:1565-1756731600-1756738800@www.newtonrepublicans.org
SUMMARY:Labor Day BBQ
DESCRIPTION:E-mail info@newtonrepublicans.org for location information and inquiries!
URL:https://www.newtonrepublicans.org/event/labor-day-bbq/
LOCATION:Organizer\, address street\, Paris\, 344546\, France
ORGANIZER;CN="NRCC":MAILTO:info@newtonrepublicans.org
END:VEVENT
BEGIN:VEVENT
DTSTART;TZID=UTC:20251211T190000
DTEND;TZID=UTC:20251211T210000
DTSTAMP:20260421T233736
CREATED:20251110T225513Z
LAST-MODIFIED:20251205T204538Z
UID:1567-1765479600-1765486800@www.newtonrepublicans.org
SUMMARY:Republican AMERI-Christmas & Hanukkah Party
DESCRIPTION:RSVP below for our AMERI-Christmas and Hanukkah party where we will feature the incredible Rachel Holt—a rising conservative voice\, culture warrior\, and talented singer-songwriter—performing Christmas music and her originals LIVE! Her powerful pro-life anthem “I Was Gonna Be” debuted on TimCast and went on to chart on Billboard last year. \nWe need your support!\nHelp us make this special night possible with your donation.
URL:https://www.newtonrepublicans.org/event/christmasparty/
LOCATION:Wellesley Italo Club\, Wellesley Italo Club 75 Pleasant St.\, Wellesley\, MA\, 02482\, United States
ORGANIZER;CN="NRCC":MAILTO:info@newtonrepublicans.org
END:VEVENT
BEGIN:VEVENT
DTSTART;TZID=UTC:20260223T190000
DTEND;TZID=UTC:20260223T200000
DTSTAMP:20260421T233736
CREATED:20260220T113642Z
LAST-MODIFIED:20260222T115958Z
UID:1581-1771873200-1771876800@www.newtonrepublicans.org
SUMMARY:Newton Republican Caucus on Zoom
DESCRIPTION:Newton Republican Caucus (Wards 1 Through 8) Zoom\nMonday\, February 23\n7pm\nJoin Zoom Meeting\nhttps://us05web.zoom.us/j/82855349201?pwd=Rn0GwPDxj3PrtCYbkuymIHmJtAOYVr.1\nMeeting ID: 828 5534 9201\nPasscode: 302939\n—\nOne tap mobile\n+13052241968\,\,82855349201#\,\,\,\,*302939# US\n+13092053325\,\,82855349201#\,\,\,\,*302939# US\n  \n\nThe MassGOP Party Chair has declared a weather state of emergency for Sunday\, 2/22\, through Tuesday\, 2/24.\n\nAs such\, we are moving our caucus to Zoom this Monday\, February 23 at 7pm. Members of the Newton Republican City Committee (inclusive of all eight wards) will elect delegates to represent Newton at the Massachusetts Republican Party Convention on Saturday\, April 25.\n\nServing as a convention delegate is one of the most important ways local Republicans can shape the future of our party. Delegates vote to determine which candidates receive the official MassGOP endorsement\, including the party’s preferred candidate for Governor and other statewide offices\, for the ensuing State Primary. These endorsements play a key role in setting the direction and message of the Republican Party in Massachusetts.\n\nThe delegate registration fee is $150\, which covers convention participation costs.\n\nDelegates must have been a registered Republican in Newton by December 31\, 2025. Delegates do not need to be a member of the Newton Republican City Committee.\n\nInstructions for advance name submission\, including scheduling an interview for eligibility\, will be provided upon request at info@newtonrepublicans.org.
URL:https://www.newtonrepublicans.org/event/newton-republican-caucus/
LOCATION:ZOOM
ORGANIZER;CN="NRCC":MAILTO:info@newtonrepublicans.org
END:VEVENT
END:VCALENDAR