BEGIN:VCALENDAR
VERSION:2.0
PRODID:-//Newton Republican City Committee - ECPv6.15.20//NONSGML v1.0//EN
CALSCALE:GREGORIAN
METHOD:PUBLISH
X-ORIGINAL-URL:https://www.newtonrepublicans.org
X-WR-CALDESC:Events for Newton Republican City Committee
REFRESH-INTERVAL;VALUE=DURATION:PT1H
X-Robots-Tag:noindex
X-PUBLISHED-TTL:PT1H
BEGIN:VTIMEZONE
TZID:UTC
BEGIN:STANDARD
TZOFFSETFROM:+0000
TZOFFSETTO:+0000
TZNAME:UTC
DTSTART:20220101T000000
END:STANDARD
END:VTIMEZONE
BEGIN:VEVENT
DTSTART;TZID=UTC:20230723T153000
DTEND;TZID=UTC:20230723T190000
DTSTAMP:20260425T104009
CREATED:20230710T125325Z
LAST-MODIFIED:20230710T125325Z
UID:1447-1690126200-1690138800@www.newtonrepublicans.org
SUMMARY:Margot's 100th!
DESCRIPTION:Margot Einstein\, an exemplary Newton activist\, is turning 100! \nJoin us as we celebrate Margot and support THE TERRIFIC TEN charities over a kosher dinner. Tickets must be purchased by Friday\, July 14.  Online $118 at cjui.org/donate\, by check $100 made out to CJUI and mailed to CJUI\, Box 515\, New Town\, MA 02456\, table of 10 $1\,500 includes sponsor listing. All donations will be shared equally with the ten charities by CJUI\, a 501(c)3 organization. \n 
URL:https://www.newtonrepublicans.org/event/margots-100th/
LOCATION:American Legion Post 440 295 California St. Newton\, 295 California St.\, Newton\, MA\, United States
ORGANIZER;CN="Organizer":MAILTO:info@velikorodnov.com
END:VEVENT
END:VCALENDAR