BEGIN:VCALENDAR
VERSION:2.0
PRODID:-//Newton Republican City Committee - ECPv6.15.20//NONSGML v1.0//EN
CALSCALE:GREGORIAN
METHOD:PUBLISH
X-WR-CALNAME:Newton Republican City Committee
X-ORIGINAL-URL:https://www.newtonrepublicans.org
X-WR-CALDESC:Events for Newton Republican City Committee
REFRESH-INTERVAL;VALUE=DURATION:PT1H
X-Robots-Tag:noindex
X-PUBLISHED-TTL:PT1H
BEGIN:VTIMEZONE
TZID:UTC
BEGIN:STANDARD
TZOFFSETFROM:+0000
TZOFFSETTO:+0000
TZNAME:UTC
DTSTART:20220101T000000
END:STANDARD
END:VTIMEZONE
BEGIN:VEVENT
DTSTART;TZID=UTC:20230420T190000
DTEND;TZID=UTC:20230420T200000
DTSTAMP:20260425T151531
CREATED:20230410T185616Z
LAST-MODIFIED:20230410T185616Z
UID:1428-1682017200-1682020800@www.newtonrepublicans.org
SUMMARY:Newton Republican City Committee Meeting
DESCRIPTION:Thursday\, April 20 @ 7pm \n\nPlease join us for our next Newton Republican City Committee meeting where we will discuss:\n\n\nFollow up from the override vote\nBylaws update\nOutreach for annual meeting\nUpdate from the State Committee\n\n\n\nAdd event to calendar \n     
URL:https://www.newtonrepublicans.org/event/newton-republican-city-committee-meeting-2/
LOCATION:150 Lowell Ave\, 150 Lowell Avenue\, Newtonville\, 02460\, United States
ORGANIZER;CN="NRCC":MAILTO:info@newtonrepublicans.org
END:VEVENT
END:VCALENDAR