BEGIN:VCALENDAR
VERSION:2.0
PRODID:-//Newton Republican City Committee - ECPv6.15.20//NONSGML v1.0//EN
CALSCALE:GREGORIAN
METHOD:PUBLISH
X-WR-CALNAME:Newton Republican City Committee
X-ORIGINAL-URL:https://www.newtonrepublicans.org
X-WR-CALDESC:Events for Newton Republican City Committee
REFRESH-INTERVAL;VALUE=DURATION:PT1H
X-Robots-Tag:noindex
X-PUBLISHED-TTL:PT1H
BEGIN:VTIMEZONE
TZID:UTC
BEGIN:STANDARD
TZOFFSETFROM:+0000
TZOFFSETTO:+0000
TZNAME:UTC
DTSTART:20210101T000000
END:STANDARD
END:VTIMEZONE
BEGIN:VEVENT
DTSTART;TZID=UTC:20221016T100000
DTEND;TZID=UTC:20221016T150000
DTSTAMP:20260425T235339
CREATED:20221007T161151Z
LAST-MODIFIED:20221007T161151Z
UID:1395-1665914400-1665932400@www.newtonrepublicans.org
SUMMARY:Harvest Fair
DESCRIPTION:Join us as we promote the NRCC\, our candidates\, and our positions on Questions 1 and 4 (NO!)
URL:https://www.newtonrepublicans.org/event/harvest-fair/
LOCATION:Newton Centre\, Centre and Beacon St\, Newton Centre Green\, MA\, United States
ORGANIZER;CN="NRCC":MAILTO:info@newtonrepublicans.org
END:VEVENT
END:VCALENDAR