BEGIN:VCALENDAR
VERSION:2.0
PRODID:-//Newton Republican City Committee - ECPv6.15.20//NONSGML v1.0//EN
CALSCALE:GREGORIAN
METHOD:PUBLISH
X-ORIGINAL-URL:https://www.newtonrepublicans.org
X-WR-CALDESC:Events for Newton Republican City Committee
REFRESH-INTERVAL;VALUE=DURATION:PT1H
X-Robots-Tag:noindex
X-PUBLISHED-TTL:PT1H
BEGIN:VTIMEZONE
TZID:UTC
BEGIN:STANDARD
TZOFFSETFROM:+0000
TZOFFSETTO:+0000
TZNAME:UTC
DTSTART:20210101T000000
END:STANDARD
END:VTIMEZONE
BEGIN:VEVENT
DTSTART;TZID=UTC:20221012T183000
DTEND;TZID=UTC:20221012T203000
DTSTAMP:20260425T235640
CREATED:20221006T161331Z
LAST-MODIFIED:20221006T161331Z
UID:1388-1665599400-1665606600@www.newtonrepublicans.org
SUMMARY:Diehl Debate Watch Party
DESCRIPTION:Diehl Debate Watch Party \n\nWednesday\, October 12\n6:30pm \nWest Newton Cinema\n1296 Washington St\nWest Newton\, MA 02465 \nJoin as we watch our candidate for Governor\, Geoff Diehl\, debate Maura Healey live on the big screen. \nReserve your $20 tickets in advance here or at the door.\n\n\n\n\n\n\n\n\n\n\n\n\n\n\n\n\n\n\n\n\nPurchase Tickets Here
URL:https://www.newtonrepublicans.org/event/diehl-debate-watch-party/
LOCATION:West Newton Cinema\, 1296 Washington St.\, West Newton\, MA\, United States
ORGANIZER;CN="NRCC":MAILTO:info@newtonrepublicans.org
END:VEVENT
END:VCALENDAR