BEGIN:VCALENDAR
VERSION:2.0
PRODID:-//Newton Republican City Committee - ECPv6.15.20//NONSGML v1.0//EN
CALSCALE:GREGORIAN
METHOD:PUBLISH
X-ORIGINAL-URL:https://www.newtonrepublicans.org
X-WR-CALDESC:Events for Newton Republican City Committee
REFRESH-INTERVAL;VALUE=DURATION:PT1H
X-Robots-Tag:noindex
X-PUBLISHED-TTL:PT1H
BEGIN:VTIMEZONE
TZID:UTC
BEGIN:STANDARD
TZOFFSETFROM:+0000
TZOFFSETTO:+0000
TZNAME:UTC
DTSTART:20210101T000000
END:STANDARD
END:VTIMEZONE
BEGIN:VEVENT
DTSTART;TZID=UTC:20221002T103000
DTEND;TZID=UTC:20221002T123000
DTSTAMP:20260425T235650
CREATED:20221001T134718Z
LAST-MODIFIED:20221001T134800Z
UID:1383-1664706600-1664713800@www.newtonrepublicans.org
SUMMARY:Fundraiser for Geoff Diehl
DESCRIPTION:Join us Sunday 10/2 at 10:30am for a meet and greet and fundraiser for Geoff Diehl. \nPlease RSVP to host committee member Sande Young.
URL:https://www.newtonrepublicans.org/event/fundraiser-for-geoff-diehl-2/
LOCATION:18 Cynthia Rd. Newton\, 18 Cynthia Rd\, Newton\, MA\, United States
END:VEVENT
END:VCALENDAR