BEGIN:VCALENDAR
VERSION:2.0
PRODID:-//Newton Republican City Committee - ECPv6.15.20//NONSGML v1.0//EN
CALSCALE:GREGORIAN
METHOD:PUBLISH
X-ORIGINAL-URL:https://www.newtonrepublicans.org
X-WR-CALDESC:Events for Newton Republican City Committee
REFRESH-INTERVAL;VALUE=DURATION:PT1H
X-Robots-Tag:noindex
X-PUBLISHED-TTL:PT1H
BEGIN:VTIMEZONE
TZID:UTC
BEGIN:STANDARD
TZOFFSETFROM:+0000
TZOFFSETTO:+0000
TZNAME:UTC
DTSTART:20210101T000000
END:STANDARD
END:VTIMEZONE
BEGIN:VEVENT
DTSTART;TZID=UTC:20220918T120000
DTEND;TZID=UTC:20220918T160000
DTSTAMP:20260426T011916
CREATED:20220914T001414Z
LAST-MODIFIED:20220914T001414Z
UID:1367-1663502400-1663516800@www.newtonrepublicans.org
SUMMARY:Newtonville Village Day
DESCRIPTION:Newtonville Village Day  \nBOOTHS SOLD OUT THIS YEAR! \n\nSunday\, September 18\n12-4pm\nNewtonville Center\n345 Walnut St \nVolunteer at Newtonville Village Day this year to promote the Newton Republican City Committee and our candidates!\n\nPlease join us from noon-2pm or 2-4pm to help us staff the booth. \n\nE-mail info@newtonrepublicans.org to volunteer. \n\n 
URL:https://www.newtonrepublicans.org/event/newtonville-village-day/
LOCATION:345 Walnut St. Newton\, MA 02460\, 345 Walnut St\, Newtonville\, MA\, 02460\, United States
ORGANIZER;CN="NRCC":MAILTO:info@newtonrepublicans.org
END:VEVENT
END:VCALENDAR