BEGIN:VCALENDAR
VERSION:2.0
PRODID:-//Newton Republican City Committee - ECPv6.15.20//NONSGML v1.0//EN
CALSCALE:GREGORIAN
METHOD:PUBLISH
X-WR-CALNAME:Newton Republican City Committee
X-ORIGINAL-URL:https://www.newtonrepublicans.org
X-WR-CALDESC:Events for Newton Republican City Committee
REFRESH-INTERVAL;VALUE=DURATION:PT1H
X-Robots-Tag:noindex
X-PUBLISHED-TTL:PT1H
BEGIN:VTIMEZONE
TZID:UTC
BEGIN:STANDARD
TZOFFSETFROM:+0000
TZOFFSETTO:+0000
TZNAME:UTC
DTSTART:20210101T000000
END:STANDARD
END:VTIMEZONE
BEGIN:VEVENT
DTSTART;TZID=UTC:20220911T180000
DTEND;TZID=UTC:20220911T190000
DTSTAMP:20260426T011734
CREATED:20220909T074016Z
LAST-MODIFIED:20220909T074016Z
UID:1363-1662919200-1662922800@www.newtonrepublicans.org
SUMMARY:Newton's 21st Remembrance Day of 9/11
DESCRIPTION:
URL:https://www.newtonrepublicans.org/event/newtons-21st-remembrance-day-of-9-11/
LOCATION:Newton 9-11 Memorial\, 1164 Centre St\, Newton\, MA\, United States
END:VEVENT
END:VCALENDAR